BEGIN:VCALENDAR
VERSION:2.0
PRODID:-//jEvents 2.0 for Joomla//EN
CALSCALE:GREGORIAN
METHOD:PUBLISH
BEGIN:VEVENT
UID:4c37db6c74b3ee283eacfca33ce967cb
CATEGORIES:Sport
CREATED:20180202T180007
SUMMARY:'Fit ab 40'  Radfahren
DESCRIPTION:
DTSTAMP:20260420T182409
DTSTART:20210616T173000
DTEND:20210616T190000
SEQUENCE:0
TRANSP:OPAQUE
END:VEVENT
END:VCALENDAR